BEGIN:VCALENDAR
VERSION:2.0
PRODID:-//IEEE Toronto Section - ECPv6.15.17//NONSGML v1.0//EN
CALSCALE:GREGORIAN
METHOD:PUBLISH
X-WR-CALNAME:IEEE Toronto Section
X-ORIGINAL-URL:https://www.ieeetoronto.ca
X-WR-CALDESC:Events for IEEE Toronto Section
REFRESH-INTERVAL;VALUE=DURATION:PT1H
X-Robots-Tag:noindex
X-PUBLISHED-TTL:PT1H
BEGIN:VTIMEZONE
TZID:America/Toronto
BEGIN:DAYLIGHT
TZOFFSETFROM:-0500
TZOFFSETTO:-0400
TZNAME:EDT
DTSTART:20190310T070000
END:DAYLIGHT
BEGIN:STANDARD
TZOFFSETFROM:-0400
TZOFFSETTO:-0500
TZNAME:EST
DTSTART:20191103T060000
END:STANDARD
BEGIN:DAYLIGHT
TZOFFSETFROM:-0500
TZOFFSETTO:-0400
TZNAME:EDT
DTSTART:20200308T070000
END:DAYLIGHT
BEGIN:STANDARD
TZOFFSETFROM:-0400
TZOFFSETTO:-0500
TZNAME:EST
DTSTART:20201101T060000
END:STANDARD
BEGIN:DAYLIGHT
TZOFFSETFROM:-0500
TZOFFSETTO:-0400
TZNAME:EDT
DTSTART:20210314T070000
END:DAYLIGHT
BEGIN:STANDARD
TZOFFSETFROM:-0400
TZOFFSETTO:-0500
TZNAME:EST
DTSTART:20211107T060000
END:STANDARD
END:VTIMEZONE
BEGIN:VEVENT
DTSTART;VALUE=DATE:20200812
DTEND;VALUE=DATE:20200815
DTSTAMP:20260423T030944
CREATED:20210430T023542Z
LAST-MODIFIED:20210430T235024Z
UID:10000323-1597190400-1597449599@www.ieeetoronto.ca
SUMMARY:IEEE SEGE2020 – The 8th International Conference on Smart Energy Grid Engineering
DESCRIPTION:The SEGE conference aims at providing an opportunity to discuss various engineering challenges of smart energy grid design and operation by focusing on advanced methods and practices for designing different components and their integration within the grid. It also provides a forum for researchers from academia and professionals from industry\, as well as government regulators to tackle these challenges\, and discuss and exchange knowledge and best practices about design and implementation of Smart Energy Grids. \nConference Dates: August 12-14\, 2020 \nOrganizers: IEEE Toronto \nLocation: Virtual \nContact: Dr. Hossam Gabbar \nPapers related to the conference theme are solicited: http://ieee-sege.com
URL:https://www.ieeetoronto.ca/event/ieee-sege2020-the-8th-international-conference-on-smart-energy-grid-engineering/
LOCATION:Ontario Tech University\, Oshawa\, Canada
CATEGORIES:Conference
END:VEVENT
END:VCALENDAR