BEGIN:VCALENDAR
VERSION:2.0
PRODID:-//IEEE Toronto Section - ECPv6.15.17//NONSGML v1.0//EN
CALSCALE:GREGORIAN
METHOD:PUBLISH
X-WR-CALNAME:IEEE Toronto Section
X-ORIGINAL-URL:https://www.ieeetoronto.ca
X-WR-CALDESC:Events for IEEE Toronto Section
REFRESH-INTERVAL;VALUE=DURATION:PT1H
X-Robots-Tag:noindex
X-PUBLISHED-TTL:PT1H
BEGIN:VTIMEZONE
TZID:UTC
BEGIN:STANDARD
TZOFFSETFROM:+0000
TZOFFSETTO:+0000
TZNAME:UTC
DTSTART:20240101T000000
END:STANDARD
END:VTIMEZONE
BEGIN:VEVENT
DTSTART;TZID=UTC:20250513T090000
DTEND;TZID=UTC:20250513T170000
DTSTAMP:20260422T070814
CREATED:20250219T040603Z
LAST-MODIFIED:20250320T075059Z
UID:10000881-1747126800-1747155600@www.ieeetoronto.ca
SUMMARY:IEEE Canada Blockchain Forum 2025 (3rd edition)
DESCRIPTION:Speaker Announcements  – (https://www.linkedin.com/in/rameshramadoss/)\, Chair\, IEEE Blockchain Technical Community\, Author\, Speaker – (https://www.linkedin.com/in/markrmacdonald/)\, EY Global Lead Partner\, Public Financial Management; Lead Partner\, Government & Public Sector (Ontario) – (https://www.ece.utoronto.ca/people/veneris-a/)\, Professor at the University of Toronto – (https://www.linkedin.com/in/redwanmeslem/)\, Executive Director at the Enterprise Ethereum Alliance (EEA) – To be announced\, Kinexys Digital Payments at J.P. Morgan  And researchers from the University of Toronto\, Toronto Metropolitan University\, the University of Waterloo\, York University\, as well as startup founders from (https://creativedestructionlab.com/streams/blockchain-web3/) (Web3 Stream in partnership with University of Toronto and HEC Montréal).  Main Themes  – Global Payments – CBDC vs Stablecoins – Cybersecurity  Co-sponsored by: Exaion  Speaker(s): Mark MacDonald\,   Ontario Investment and Trade Centre\, 250 Yonge Street\, 35th Floor\, Toronto\, Ontario\, Canada\, M5B 2L7
URL:https://www.ieeetoronto.ca/event/ieee-canada-blockchain-forum-2024-3rd-edition/
LOCATION:Ontario Investment and Trade Centre\, 250 Yonge Street\, 35th Floor\, Toronto\, Ontario\, Canada\, M5B 2L7
END:VEVENT
END:VCALENDAR