BEGIN:VCALENDAR
VERSION:2.0
PRODID:-//IEEE Toronto Section - ECPv6.15.17//NONSGML v1.0//EN
CALSCALE:GREGORIAN
METHOD:PUBLISH
X-WR-CALNAME:IEEE Toronto Section
X-ORIGINAL-URL:https://www.ieeetoronto.ca
X-WR-CALDESC:Events for IEEE Toronto Section
REFRESH-INTERVAL;VALUE=DURATION:PT1H
X-Robots-Tag:noindex
X-PUBLISHED-TTL:PT1H
BEGIN:VTIMEZONE
TZID:America/Toronto
BEGIN:DAYLIGHT
TZOFFSETFROM:-0500
TZOFFSETTO:-0400
TZNAME:EDT
DTSTART:20170312T070000
END:DAYLIGHT
BEGIN:STANDARD
TZOFFSETFROM:-0400
TZOFFSETTO:-0500
TZNAME:EST
DTSTART:20171105T060000
END:STANDARD
BEGIN:DAYLIGHT
TZOFFSETFROM:-0500
TZOFFSETTO:-0400
TZNAME:EDT
DTSTART:20180311T070000
END:DAYLIGHT
BEGIN:STANDARD
TZOFFSETFROM:-0400
TZOFFSETTO:-0500
TZNAME:EST
DTSTART:20181104T060000
END:STANDARD
BEGIN:DAYLIGHT
TZOFFSETFROM:-0500
TZOFFSETTO:-0400
TZNAME:EDT
DTSTART:20190310T070000
END:DAYLIGHT
BEGIN:STANDARD
TZOFFSETFROM:-0400
TZOFFSETTO:-0500
TZNAME:EST
DTSTART:20191103T060000
END:STANDARD
END:VTIMEZONE
BEGIN:VEVENT
DTSTART;VALUE=DATE:20181029
DTEND;VALUE=DATE:20181031
DTSTAMP:20260420T013148
CREATED:20210430T022117Z
LAST-MODIFIED:20210430T224921Z
UID:10000242-1540771200-1540943999@www.ieeetoronto.ca
SUMMARY:DEWCOM 2018: The 3rd International Workshop on Dew Computing
DESCRIPTION:Dew computing is a new computing model appeared after the wide acceptance of cloud computing. While cloud computing uses centralized servers to provide various services\, dew computing uses on-premises computers to provide decentralized\, cloud-friendly\, and collaborative micro services to end-users. Dew computing is an on-premises computer software-hardware organization paradigm in the cloud computing environment\, which is complementary to cloud computing. The key features of dew computing are that on-premises computers provide functionality independent of cloud services and they also collaborate with cloud services. \nThis year\, DEWCOM 2018 will be held at the same venue with the 28th Annual International Conference on Computer Science and Software Engineering (CASCON 2018). One of the goals of this arrangement is for Dew Computing researchers to exchange ideas with industry partners. Welcome researchers\, professionals\, and students currently working in any areas to participate this event and to be pioneers of this new research area. \nDay & Time: October 29th – 30th\, 2018 \nOrganizers: IEEE Computer Society Dew Computing Special Technical Community (DewCom STC)\, IEEE Toronto WIE \nLocation: Hilton Toronto / Markham Suites Conference Center and Spa\, Meeting Room Elm 1.\n8500 Warden Avenue\, Markham\, Canada L6G 1A5 \nParking voucher is available upon request. \nRegister: http://www.dewcomputing.org/index.php/dewcom-2018/ \nContact: dewcom2018@easychair.org \nSchedule: \nSession 1 (Tutorial/Presentations): Oct. 29\, 3:15 – 5:15pm.\nSession 2 (Presentations): Oct. 30\, 8:30 – 10:00am\nNutrition Break: 10:00 – 10:15am.\nSession 3 (Presentations): Oct. 30\, 10:15am. – 12:00pm\nLunch: 12:00 -1:00pm.\nSession 4 (Presentations/DewCom STC Committee Meeting): Oct.30\, 1:00 – 3:00pm.\nNutrition Break: 3:00 – 3:15pm.\nSession 5 (DewCom STC Committee Meeting): 3:15 – 5:15pm.
URL:https://www.ieeetoronto.ca/event/dewcom-2018-the-3rd-international-workshop-on-dew-computing/
LOCATION:Hilton Toronto / Markham Suites Conference Center and Spa\, Meeting Room Elm 1.\, 8500 Warden Avenue\, Markham\, Canada L6G 1A5
CATEGORIES:Conference,Women in Engineering
END:VEVENT
END:VCALENDAR