BEGIN:VCALENDAR
VERSION:2.0
PRODID:-//IEEE Toronto Section - ECPv6.15.17//NONSGML v1.0//EN
CALSCALE:GREGORIAN
METHOD:PUBLISH
X-ORIGINAL-URL:https://www.ieeetoronto.ca
X-WR-CALDESC:Events for IEEE Toronto Section
REFRESH-INTERVAL;VALUE=DURATION:PT1H
X-Robots-Tag:noindex
X-PUBLISHED-TTL:PT1H
BEGIN:VTIMEZONE
TZID:UTC
BEGIN:STANDARD
TZOFFSETFROM:+0000
TZOFFSETTO:+0000
TZNAME:UTC
DTSTART:20240101T000000
END:STANDARD
END:VTIMEZONE
BEGIN:VEVENT
DTSTART;TZID=UTC:20250215T080000
DTEND;TZID=UTC:20250216T200000
DTSTAMP:20260422T051412
CREATED:20250123T040626Z
LAST-MODIFIED:20250216T040626Z
UID:10000872-1739606400-1739736000@www.ieeetoronto.ca
SUMMARY:MakeUofT - Canada's Largest Makeathon
DESCRIPTION:Join IEEE UofT at MakeUofT 2025 – the biggest annual make-athon in all of Canada! Find 2-4 friends and together\, create something amazing and tangible using hardware and electronic components! This year\, our three themes are sustainability\, wearable technology\, and video games! Have no hardware on hand? No problem – we have more than $5\,000 worth of hardware equipment available for rent (including microcontrollers\, sensors\, motors\, lights\, cameras\, and other electronic components)! Have no experience working with electronic components? No problem! We have experienced mentors available to help! Have your project be judged by our veteran judges from industry & academia\, and potentially win a prize from our $2\,500+ prize pool! Join 350+ hackers on February 15-16\, 2025 at MakeUofT 2025!  Bldg: Myhal Center\, 55 St. George Street\, Toronto\, Ontario\, Canada\, M5S 0C9
URL:https://www.ieeetoronto.ca/event/makeuoft-canadas-largest-makeathon/
LOCATION:Bldg: Myhal Center\, 55 St. George Street\, Toronto\, Ontario\, Canada\, M5S 0C9
END:VEVENT
END:VCALENDAR