BEGIN:VCALENDAR
VERSION:2.0
PRODID:-//IEEE Toronto Section - ECPv6.15.17//NONSGML v1.0//EN
CALSCALE:GREGORIAN
METHOD:PUBLISH
X-ORIGINAL-URL:https://www.ieeetoronto.ca
X-WR-CALDESC:Events for IEEE Toronto Section
REFRESH-INTERVAL;VALUE=DURATION:PT1H
X-Robots-Tag:noindex
X-PUBLISHED-TTL:PT1H
BEGIN:VTIMEZONE
TZID:America/Toronto
BEGIN:DAYLIGHT
TZOFFSETFROM:-0500
TZOFFSETTO:-0400
TZNAME:EDT
DTSTART:20180311T070000
END:DAYLIGHT
BEGIN:STANDARD
TZOFFSETFROM:-0400
TZOFFSETTO:-0500
TZNAME:EST
DTSTART:20181104T060000
END:STANDARD
BEGIN:DAYLIGHT
TZOFFSETFROM:-0500
TZOFFSETTO:-0400
TZNAME:EDT
DTSTART:20190310T070000
END:DAYLIGHT
BEGIN:STANDARD
TZOFFSETFROM:-0400
TZOFFSETTO:-0500
TZNAME:EST
DTSTART:20191103T060000
END:STANDARD
BEGIN:DAYLIGHT
TZOFFSETFROM:-0500
TZOFFSETTO:-0400
TZNAME:EDT
DTSTART:20200308T070000
END:DAYLIGHT
BEGIN:STANDARD
TZOFFSETFROM:-0400
TZOFFSETTO:-0500
TZNAME:EST
DTSTART:20201101T060000
END:STANDARD
END:VTIMEZONE
BEGIN:VEVENT
DTSTART;TZID=America/Toronto:20190122T120000
DTEND;TZID=America/Toronto:20190122T140000
DTSTAMP:20260423T153434
CREATED:20210430T022125Z
LAST-MODIFIED:20210430T230132Z
UID:10000255-1548158400-1548165600@www.ieeetoronto.ca
SUMMARY:Making Canada a Nation of Innovators
DESCRIPTION:Tuesday January 22nd\, 2019 at 12:00 p.m. the Licensing Executives Society\, will be presenting “Making Canada a Nation of Innovators”. \nDay & Time: Tuesday January 22nd\, 2019\n12:00 p.m. ‐ 2:00 p.m. \nSpeaker: Speakers from CIPO. TBD\nSpeakers from ISED. TBD \nOrganizers: Licensing Executives Society Toronto Chapter \nLocation: AutoDesk at MaRS\n661 University Ave #200\nToronto\, ON M5G 1M1 \nRegister: https://les.informz.net/informzdataservice/onlineversion/ind/bWFpbGluZ2luc3RhbmNlaWQ9MjUwNzE4NSZzdWJzY3JpYmVyaWQ9Mzc4MDU0NzU4 \nAbstract: The Canadian Intellectual Property Office (CIPO) and Canada’s Innovation Science and Economic Development (ISED) Office will jointly provide an informative presentation and discussion on the Government of Canada’s Innovation agenda. Learn how Canada’s Innovation and Skills Plan is putting bold ideas into action\, including Canada’s IP Strategy\, and Innovation Canada – a client centric\, single window business innovation service. \nA light lunch will be served.
URL:https://www.ieeetoronto.ca/event/making-canada-a-nation-of-innovators/
LOCATION:AutoDesk at MaRS\, 661 University Ave #200 Toronto\, ON M5G 1M1
END:VEVENT
END:VCALENDAR