BEGIN:VCALENDAR
VERSION:2.0
PRODID:-//IEEE Toronto Section - ECPv6.15.17//NONSGML v1.0//EN
CALSCALE:GREGORIAN
METHOD:PUBLISH
X-WR-CALNAME:IEEE Toronto Section
X-ORIGINAL-URL:https://www.ieeetoronto.ca
X-WR-CALDESC:Events for IEEE Toronto Section
REFRESH-INTERVAL;VALUE=DURATION:PT1H
X-Robots-Tag:noindex
X-PUBLISHED-TTL:PT1H
BEGIN:VTIMEZONE
TZID:America/Toronto
BEGIN:DAYLIGHT
TZOFFSETFROM:-0500
TZOFFSETTO:-0400
TZNAME:EDT
DTSTART:20160313T070000
END:DAYLIGHT
BEGIN:STANDARD
TZOFFSETFROM:-0400
TZOFFSETTO:-0500
TZNAME:EST
DTSTART:20161106T060000
END:STANDARD
BEGIN:DAYLIGHT
TZOFFSETFROM:-0500
TZOFFSETTO:-0400
TZNAME:EDT
DTSTART:20170312T070000
END:DAYLIGHT
BEGIN:STANDARD
TZOFFSETFROM:-0400
TZOFFSETTO:-0500
TZNAME:EST
DTSTART:20171105T060000
END:STANDARD
BEGIN:DAYLIGHT
TZOFFSETFROM:-0500
TZOFFSETTO:-0400
TZNAME:EDT
DTSTART:20180311T070000
END:DAYLIGHT
BEGIN:STANDARD
TZOFFSETFROM:-0400
TZOFFSETTO:-0500
TZNAME:EST
DTSTART:20181104T060000
END:STANDARD
END:VTIMEZONE
BEGIN:VEVENT
DTSTART;TZID=America/Toronto:20171021T183000
DTEND;TZID=America/Toronto:20171021T220000
DTSTAMP:20260424T102213
CREATED:20210430T012923Z
LAST-MODIFIED:20210430T215311Z
UID:10000144-1508610600-1508623200@www.ieeetoronto.ca
SUMMARY:IEEE Toronto Section Annual General Meeting 2017
DESCRIPTION:All members\, along with their guest\, are invited to attend the IEEE Toronto Section Annual General Meeting (AGM). The AGM is an occasion to celebrate the achievements of the Toronto Section\, made possible by its dedicated volunteers and members. \nThis year\, the AGM will also include elections for a new set of Section Officers\, to serve in 2018 – 2019. \nDate: Saturday\, October 21\, 2017\nTime: 6:30 p.m. – 10:00 p.m. \nRVSP: https://events.vtools.ieee.org/m/47392 \nCost: Life members (inc. one guest): $50.00 CAD. Other members (inc. one guest): $70.00 CAD.\nContact our section secretary\, Ali Nabavi for details. \nLocation: 21 Old Mill Rd\, Toronto\, ON\, Canada\nBuilding: Brûlé C \nPlease notice the following:\n• Dress code is Elegant Casual.\n• Seats are limited; RSVP is mandatory. \nWe look forward to seeing you all on October 21\, 2017!
URL:https://www.ieeetoronto.ca/event/ieee-toronto-section-annual-general-meeting-2017/
LOCATION:21 Old Mill Rd\, Toronto\, ON\, Canada
END:VEVENT
END:VCALENDAR