BEGIN:VCALENDAR
VERSION:2.0
PRODID:-//IEEE Toronto Section - ECPv6.15.17//NONSGML v1.0//EN
CALSCALE:GREGORIAN
METHOD:PUBLISH
X-ORIGINAL-URL:https://www.ieeetoronto.ca
X-WR-CALDESC:Events for IEEE Toronto Section
REFRESH-INTERVAL;VALUE=DURATION:PT1H
X-Robots-Tag:noindex
X-PUBLISHED-TTL:PT1H
BEGIN:VTIMEZONE
TZID:America/Toronto
BEGIN:DAYLIGHT
TZOFFSETFROM:-0500
TZOFFSETTO:-0400
TZNAME:EDT
DTSTART:20150308T070000
END:DAYLIGHT
BEGIN:STANDARD
TZOFFSETFROM:-0400
TZOFFSETTO:-0500
TZNAME:EST
DTSTART:20151101T060000
END:STANDARD
BEGIN:DAYLIGHT
TZOFFSETFROM:-0500
TZOFFSETTO:-0400
TZNAME:EDT
DTSTART:20160313T070000
END:DAYLIGHT
BEGIN:STANDARD
TZOFFSETFROM:-0400
TZOFFSETTO:-0500
TZNAME:EST
DTSTART:20161106T060000
END:STANDARD
BEGIN:DAYLIGHT
TZOFFSETFROM:-0500
TZOFFSETTO:-0400
TZNAME:EDT
DTSTART:20170312T070000
END:DAYLIGHT
BEGIN:STANDARD
TZOFFSETFROM:-0400
TZOFFSETTO:-0500
TZNAME:EST
DTSTART:20171105T060000
END:STANDARD
END:VTIMEZONE
BEGIN:VEVENT
DTSTART;TZID=America/Toronto:20161029T183000
DTEND;TZID=America/Toronto:20161029T220000
DTSTAMP:20260424T203552
CREATED:20210430T002606Z
LAST-MODIFIED:20210430T010306Z
UID:10000079-1477765800-1477778400@www.ieeetoronto.ca
SUMMARY:IEEE Toronto Section Annual General Meeting 2016
DESCRIPTION:All members\, along with their guest\, are invited to attend the IEEE Toronto Section Annual General Meeting (AGM). The AGM is an occasion to celebrate the achievements of the Toronto Section\, made possible by its dedicated volunteers and members. We are pleased to announce that Sandro Perruzza\, CEO of the Ontario Society of Professional Engineers will deliver the keynote address\, discussing ways to strengthen the engineering profession in Ontario. \nDate: Saturday\, October 29\, 2016\nTime: 6:30 pm — 10 pm \nCost: Life members and their guest: $50 per person. Other members and their guest: $70 per person. Contact our section secretary\, Ali Nabavi for details. \nLocation: 21 Old Mill Rd\, Toronto\, ON\, Canada \nProgram:\n6:30 PM: Reception and Cash bar\n7:00 PM: Formal program:\n– Dinner\n– Section report by Dr. Thamir Murad\, section chair\n– Keynote address by Sandro Perruzza\, CEO of OSPE\n– Section awards \nPlease notice the following:\n• Dress code is Elegant Casual.\n• Seats are limited; RSVP is mandatory. \nWe look forward to seeing you all on October 29\, 2016! \nBiography for Sandro Perruzza:\nSandro Perruzza is the Chief Executive Officer of the Ontario Society of Professional Engineers (OSPE). Sandro is also on the Board of Directors of Minerva Canada\, whose mandate is to embed Health and Safety curriculum into University Engineering and Business Programs across Canada. He has been recognized for the ability to translate complex concepts and situations into unique and practical solutions through a balance of strong business acumen supported by excellent analytical and communication skills. This has allowed him to develop solutions that have been implemented in fortune 500 companies\, as well as in small and medium sized enterprises. He has a Bachelor of Science in Mathematics from McMaster University\, as well as a Diploma in Occupational Health and Safety from McMaster. \nPrior to joining OSPE\, Sandro was the President of Focus on Results Consulting and Chief of Client Services at Workplace Safety & Prevention Services\, the largest Health and Safety Association in Canada\, where he was a sitting member of the Ontario Ministry of Labour’s Prevention Operations Forum. Sandro lives in Oakville\, with his wife and four children\, and is actively involved in the community and volunteer’s his time\, including coaching a competitive boy’s soccer team.
URL:https://www.ieeetoronto.ca/event/ieee-toronto-section-annual-general-meeting-2016/
LOCATION:21 Old Mill Rd\, Etobicoke\, ON M8X 1G5\, Canada
END:VEVENT
END:VCALENDAR