BEGIN:VCALENDAR
VERSION:2.0
PRODID:-//IEEE Toronto Section - ECPv6.15.17//NONSGML v1.0//EN
CALSCALE:GREGORIAN
METHOD:PUBLISH
X-ORIGINAL-URL:https://www.ieeetoronto.ca
X-WR-CALDESC:Events for IEEE Toronto Section
REFRESH-INTERVAL;VALUE=DURATION:PT1H
X-Robots-Tag:noindex
X-PUBLISHED-TTL:PT1H
BEGIN:VTIMEZONE
TZID:America/New_York
BEGIN:DAYLIGHT
TZOFFSETFROM:-0500
TZOFFSETTO:-0400
TZNAME:EDT
DTSTART:20190310T070000
END:DAYLIGHT
BEGIN:STANDARD
TZOFFSETFROM:-0400
TZOFFSETTO:-0500
TZNAME:EST
DTSTART:20191103T060000
END:STANDARD
BEGIN:DAYLIGHT
TZOFFSETFROM:-0500
TZOFFSETTO:-0400
TZNAME:EDT
DTSTART:20200308T070000
END:DAYLIGHT
BEGIN:STANDARD
TZOFFSETFROM:-0400
TZOFFSETTO:-0500
TZNAME:EST
DTSTART:20201101T060000
END:STANDARD
BEGIN:DAYLIGHT
TZOFFSETFROM:-0500
TZOFFSETTO:-0400
TZNAME:EDT
DTSTART:20210314T070000
END:DAYLIGHT
BEGIN:STANDARD
TZOFFSETFROM:-0400
TZOFFSETTO:-0500
TZNAME:EST
DTSTART:20211107T060000
END:STANDARD
END:VTIMEZONE
BEGIN:VEVENT
DTSTART;TZID=America/New_York:20200612T170000
DTEND;TZID=America/New_York:20200612T180000
DTSTAMP:20260423T073231
CREATED:20210501T013325Z
LAST-MODIFIED:20210501T013325Z
UID:10000275-1591981200-1591984800@www.ieeetoronto.ca
SUMMARY:WIE Electronics session
DESCRIPTION:The workshop was to learn how to use virtual instruments in multisim\, as a way of learning how to use lab equipment\, followed by a discussion of an oscillator circuit\, built and demonstrated in multisim. \n\nDay & Time: Friday\, June 12\, 2020\n5:00 p.m. – 6:00 p.m. \nSpeaker: Brandeen McDonald \n\nProfessor\, School of Applied Technology at Humber College Institution of Technology and Advance LearningOrganizers: IEEE Toronto WIE\, Humber Student Branch  \nLocation: Virtual – Zoom \nContact: Ayda Naserialiabadi
URL:https://www.ieeetoronto.ca/event/wie-electronics-session/
CATEGORIES:Women in Engineering
END:VEVENT
END:VCALENDAR